BEGIN:VCALENDAR
VERSION:2.0
PRODID:-//Städtisches Familienzentrum KiKO - Herten - ECPv5.0.0//NONSGML v1.0//EN
CALSCALE:GREGORIAN
METHOD:PUBLISH
X-WR-CALNAME:Städtisches Familienzentrum KiKO - Herten
X-ORIGINAL-URL:https://www.kiko-herten.de
X-WR-CALDESC:Veranstaltungen im Städtisches Familienzentrum KiKO - Herten
BEGIN:VTIMEZONE
TZID:Europe/Berlin
BEGIN:DAYLIGHT
TZOFFSETFROM:+0100
TZOFFSETTO:+0200
TZNAME:CEST
DTSTART:20250330T010000
END:DAYLIGHT
BEGIN:STANDARD
TZOFFSETFROM:+0200
TZOFFSETTO:+0100
TZNAME:CET
DTSTART:20251026T010000
END:STANDARD
END:VTIMEZONE
BEGIN:VEVENT
DTSTART;TZID=Europe/Berlin:20251211T141500
DTEND;TZID=Europe/Berlin:20251211T154500
DTSTAMP:20260420T045102
CREATED:20251008T112216Z
LAST-MODIFIED:20251008T112216Z
UID:3983-1765462500-1765467900@www.kiko-herten.de
SUMMARY:Weihnachtsfeier in Gruppe Orange
DESCRIPTION:In jeder Gruppe findet eine Weihnachtsfeier für Kinder und ihre Eltern statt. Nähere Informationen folgen. \n  \nAchtung: An dem Tag ihrer Weihnachtsfeier müssen die Kinder um 12:00 Uhr abgeholt werden! \n
URL:https://www.kiko-herten.de/termin/weihnachtsfeier-in-gruppe-orange/
LOCATION:KiKo
END:VEVENT
END:VCALENDAR