BEGIN:VCALENDAR
VERSION:2.0
PRODID:-//Städtisches Familienzentrum KiKO - Herten - ECPv5.0.0//NONSGML v1.0//EN
CALSCALE:GREGORIAN
METHOD:PUBLISH
X-WR-CALNAME:Städtisches Familienzentrum KiKO - Herten
X-ORIGINAL-URL:https://www.kiko-herten.de
X-WR-CALDESC:Veranstaltungen im Städtisches Familienzentrum KiKO - Herten
BEGIN:VTIMEZONE
TZID:Europe/Berlin
BEGIN:DAYLIGHT
TZOFFSETFROM:+0100
TZOFFSETTO:+0200
TZNAME:CEST
DTSTART:20250330T010000
END:DAYLIGHT
BEGIN:STANDARD
TZOFFSETFROM:+0200
TZOFFSETTO:+0100
TZNAME:CET
DTSTART:20251026T010000
END:STANDARD
END:VTIMEZONE
BEGIN:VEVENT
DTSTART;TZID=Europe/Berlin:20250909T141400
DTEND;TZID=Europe/Berlin:20250909T151500
DTSTAMP:20260420T120440
CREATED:20250929T104010Z
LAST-MODIFIED:20250929T104010Z
UID:3793-1757427240-1757430900@www.kiko-herten.de
SUMMARY:Vorschuleltern-Infoveranstaltung
DESCRIPTION:Heute sind die Eltern der Vorschulkinder zu einer Infoveranstaltung eingeladen. Wir stellen Ihnen unsere Arbeit im kommenden Kita-Jahr vor und erläutern die Zusammenarbeit mit der Waldschule und dem Hof Wessels. Sie erhalten dazu eine persönliche Einladung. \n
URL:https://www.kiko-herten.de/termin/vorschuleltern-infoveranstaltung-3/
LOCATION:KiKo
END:VEVENT
END:VCALENDAR