BEGIN:VCALENDAR
VERSION:2.0
PRODID:-//Städtisches Familienzentrum KiKO - Herten - ECPv5.0.0//NONSGML v1.0//EN
CALSCALE:GREGORIAN
METHOD:PUBLISH
X-WR-CALNAME:Städtisches Familienzentrum KiKO - Herten
X-ORIGINAL-URL:https://www.kiko-herten.de
X-WR-CALDESC:Veranstaltungen im Städtisches Familienzentrum KiKO - Herten
BEGIN:VTIMEZONE
TZID:Europe/Berlin
BEGIN:DAYLIGHT
TZOFFSETFROM:+0100
TZOFFSETTO:+0200
TZNAME:CEST
DTSTART:20240331T010000
END:DAYLIGHT
BEGIN:STANDARD
TZOFFSETFROM:+0200
TZOFFSETTO:+0100
TZNAME:CET
DTSTART:20241027T010000
END:STANDARD
END:VTIMEZONE
BEGIN:VEVENT
DTSTART;TZID=Europe/Berlin:20241108T093000
DTEND;TZID=Europe/Berlin:20241108T100000
DTSTAMP:20260424T114800
CREATED:20241017T074957Z
LAST-MODIFIED:20241017T074957Z
UID:3575-1731058200-1731060000@www.kiko-herten.de
SUMMARY:Musikkreisel
DESCRIPTION:Bei unserem gruppenübergreifend stattfindenden Musikkreisel dreht sich alles um kindgerechtes Bewegen\, Tanzen und Singen. \n
URL:https://www.kiko-herten.de/termin/musikkreisel-7/
END:VEVENT
END:VCALENDAR