BEGIN:VCALENDAR
VERSION:2.0
PRODID:-//Städtisches Familienzentrum KiKO - Herten - ECPv5.0.0//NONSGML v1.0//EN
CALSCALE:GREGORIAN
METHOD:PUBLISH
X-WR-CALNAME:Städtisches Familienzentrum KiKO - Herten
X-ORIGINAL-URL:https://www.kiko-herten.de
X-WR-CALDESC:Veranstaltungen im Städtisches Familienzentrum KiKO - Herten
BEGIN:VTIMEZONE
TZID:Europe/Berlin
BEGIN:DAYLIGHT
TZOFFSETFROM:+0100
TZOFFSETTO:+0200
TZNAME:CEST
DTSTART:20250330T010000
END:DAYLIGHT
BEGIN:STANDARD
TZOFFSETFROM:+0200
TZOFFSETTO:+0100
TZNAME:CET
DTSTART:20251026T010000
END:STANDARD
END:VTIMEZONE
BEGIN:VEVENT
DTSTART;TZID=Europe/Berlin:20250917T090000
DTEND;TZID=Europe/Berlin:20250917T094500
DTSTAMP:20260420T052305
CREATED:20250929T104158Z
LAST-MODIFIED:20250929T104158Z
UID:3796-1758099600-1758102300@www.kiko-herten.de
SUMMARY:Musikalische Früherziehung
DESCRIPTION:Frau Pye hat Gesang studiert und spielt mehrere Instrumente. Sie unterrichtet seit vielen Jahren in unterschiedlichen Einrichtungen musikalische Früherziehung. Im KiKo bietet sie 10 Einheiten zur musikalischen Früherziehung für unsere Kinder gruppenübergreifend an. \n
URL:https://www.kiko-herten.de/termin/musikalische-frueherziehung-4/2025-09-17/
LOCATION:KiKo
END:VEVENT
END:VCALENDAR