BEGIN:VCALENDAR
VERSION:2.0
PRODID:-//Städtisches Familienzentrum KiKO - Herten - ECPv5.0.0//NONSGML v1.0//EN
CALSCALE:GREGORIAN
METHOD:PUBLISH
X-WR-CALNAME:Städtisches Familienzentrum KiKO - Herten
X-ORIGINAL-URL:https://www.kiko-herten.de
X-WR-CALDESC:Veranstaltungen im Städtisches Familienzentrum KiKO - Herten
BEGIN:VTIMEZONE
TZID:Europe/Berlin
BEGIN:DAYLIGHT
TZOFFSETFROM:+0100
TZOFFSETTO:+0200
TZNAME:CEST
DTSTART:20240331T010000
END:DAYLIGHT
BEGIN:STANDARD
TZOFFSETFROM:+0200
TZOFFSETTO:+0100
TZNAME:CET
DTSTART:20241027T010000
END:STANDARD
END:VTIMEZONE
BEGIN:VEVENT
DTSTART;TZID=Europe/Berlin:20241202T090000
DTEND;TZID=Europe/Berlin:20241202T094500
DTSTAMP:20260422T112120
CREATED:20241017T083055Z
LAST-MODIFIED:20241017T083055Z
UID:3609-1733130000-1733132700@www.kiko-herten.de
SUMMARY:Musikalische Früherziehung
DESCRIPTION:Frau Pye bietet insgesamt 10 Einheiten zur musikalischen Früherziehung für eine feste Gruppe von 9 Kinder im Alter von 4-5 Jahren an. Nähere Informationen erhalten Sie zeitnah. \n
URL:https://www.kiko-herten.de/termin/musikalische-frueherziehung-3/
END:VEVENT
END:VCALENDAR