BEGIN:VCALENDAR
VERSION:2.0
PRODID:-//Städtisches Familienzentrum KiKO - Herten - ECPv5.0.0//NONSGML v1.0//EN
CALSCALE:GREGORIAN
METHOD:PUBLISH
X-WR-CALNAME:Städtisches Familienzentrum KiKO - Herten
X-ORIGINAL-URL:https://www.kiko-herten.de
X-WR-CALDESC:Veranstaltungen im Städtisches Familienzentrum KiKO - Herten
BEGIN:VTIMEZONE
TZID:Europe/Berlin
BEGIN:DAYLIGHT
TZOFFSETFROM:+0100
TZOFFSETTO:+0200
TZNAME:CEST
DTSTART:20250330T010000
END:DAYLIGHT
BEGIN:STANDARD
TZOFFSETFROM:+0200
TZOFFSETTO:+0100
TZNAME:CET
DTSTART:20251026T010000
END:STANDARD
END:VTIMEZONE
BEGIN:VEVENT
DTSTART;TZID=Europe/Berlin:20250916T140000
DTEND;TZID=Europe/Berlin:20250916T144500
DTSTAMP:20260420T044748
CREATED:20250929T102525Z
LAST-MODIFIED:20250929T102525Z
UID:3771-1758031200-1758033900@www.kiko-herten.de
SUMMARY:Mini-Tänzer
DESCRIPTION:Heute findet eine gruppenübergreifende Mini-Tänzer-AG mit unserer Kollegin Frau Kislali statt. Die Kinder im Alter von 2-3 Jahren lernen spielerisch sich zur Musik zu bewegen und zu tanzen. \n
URL:https://www.kiko-herten.de/termin/mini-taenzer-4/2025-09-16/
LOCATION:KiKo
END:VEVENT
END:VCALENDAR