BEGIN:VCALENDAR
VERSION:2.0
PRODID:-//Städtisches Familienzentrum KiKO - Herten - ECPv5.0.0//NONSGML v1.0//EN
CALSCALE:GREGORIAN
METHOD:PUBLISH
X-WR-CALNAME:Städtisches Familienzentrum KiKO - Herten
X-ORIGINAL-URL:https://www.kiko-herten.de
X-WR-CALDESC:Veranstaltungen im Städtisches Familienzentrum KiKO - Herten
BEGIN:VTIMEZONE
TZID:Europe/Berlin
BEGIN:DAYLIGHT
TZOFFSETFROM:+0100
TZOFFSETTO:+0200
TZNAME:CEST
DTSTART:20240331T010000
END:DAYLIGHT
BEGIN:STANDARD
TZOFFSETFROM:+0200
TZOFFSETTO:+0100
TZNAME:CET
DTSTART:20241027T010000
END:STANDARD
END:VTIMEZONE
BEGIN:VEVENT
DTSTART;VALUE=DATE:20241220
DTEND;VALUE=DATE:20241221
DTSTAMP:20260421T050325
CREATED:20241017T090121Z
LAST-MODIFIED:20241017T090121Z
UID:3647-1734652800-1734739199@www.kiko-herten.de
SUMMARY:Letzter Kita-Tag im Jahr 2024
DESCRIPTION:Heute ist der letzte Kita-Tag in diesem Jahr. In allen Gruppen wird gemeinsam gefrühstückt und wir lassen das Jahr in einer gemütlichen Atmosphäre ausklingen. \n
URL:https://www.kiko-herten.de/termin/letzter-kita-tag-im-jahr-2024/
END:VEVENT
END:VCALENDAR