BEGIN:VCALENDAR
VERSION:2.0
PRODID:-//Städtisches Familienzentrum KiKO - Herten - ECPv5.0.0//NONSGML v1.0//EN
CALSCALE:GREGORIAN
METHOD:PUBLISH
X-WR-CALNAME:Städtisches Familienzentrum KiKO - Herten
X-ORIGINAL-URL:https://www.kiko-herten.de
X-WR-CALDESC:Veranstaltungen im Städtisches Familienzentrum KiKO - Herten
BEGIN:VTIMEZONE
TZID:Europe/Berlin
BEGIN:DAYLIGHT
TZOFFSETFROM:+0100
TZOFFSETTO:+0200
TZNAME:CEST
DTSTART:20240331T010000
END:DAYLIGHT
BEGIN:STANDARD
TZOFFSETFROM:+0200
TZOFFSETTO:+0100
TZNAME:CET
DTSTART:20241027T010000
END:STANDARD
END:VTIMEZONE
BEGIN:VEVENT
DTSTART;TZID=Europe/Berlin:20241219T080000
DTEND;TZID=Europe/Berlin:20241219T090000
DTSTAMP:20260423T171925
CREATED:20241017T083907Z
LAST-MODIFIED:20241017T083907Z
UID:3622-1734595200-1734598800@www.kiko-herten.de
SUMMARY:Leseeule
DESCRIPTION:Donnerstags besucht unsere ehemalige Kollegin Frau Pförtner die Gruppen\, um den Kindern Bücher zu verschiedenen Themen vorzulesen. \n
URL:https://www.kiko-herten.de/termin/leseeule-6/2024-12-19/
END:VEVENT
END:VCALENDAR