BEGIN:VCALENDAR
VERSION:2.0
PRODID:-//Städtisches Familienzentrum KiKO - Herten - ECPv5.0.0//NONSGML v1.0//EN
CALSCALE:GREGORIAN
METHOD:PUBLISH
X-WR-CALNAME:Städtisches Familienzentrum KiKO - Herten
X-ORIGINAL-URL:https://www.kiko-herten.de
X-WR-CALDESC:Veranstaltungen im Städtisches Familienzentrum KiKO - Herten
BEGIN:VTIMEZONE
TZID:Europe/Berlin
BEGIN:DAYLIGHT
TZOFFSETFROM:+0100
TZOFFSETTO:+0200
TZNAME:CEST
DTSTART:20240331T010000
END:DAYLIGHT
BEGIN:STANDARD
TZOFFSETFROM:+0200
TZOFFSETTO:+0100
TZNAME:CET
DTSTART:20241027T010000
END:STANDARD
END:VTIMEZONE
BEGIN:VEVENT
DTSTART;TZID=Europe/Berlin:20241127T130000
DTEND;TZID=Europe/Berlin:20241127T150000
DTSTAMP:20260424T114038
CREATED:20241017T081119Z
LAST-MODIFIED:20241017T081119Z
UID:3605-1732712400-1732719600@www.kiko-herten.de
SUMMARY:Leitungssprechstunde
DESCRIPTION:Einmal im Monat bietet Frau Friedberger eine Leitungssprechstunde an. Vereinbaren Sie bitte bei Interesse einen Termin. Bei dringendem Gesprächsbedarf kann ein zusätzlicher Termin vereinbart werden. \n
URL:https://www.kiko-herten.de/termin/leitungssprechstunde-8/
END:VEVENT
END:VCALENDAR