BEGIN:VCALENDAR
VERSION:2.0
PRODID:-//Städtisches Familienzentrum KiKO - Herten - ECPv5.0.0//NONSGML v1.0//EN
CALSCALE:GREGORIAN
METHOD:PUBLISH
X-WR-CALNAME:Städtisches Familienzentrum KiKO - Herten
X-ORIGINAL-URL:https://www.kiko-herten.de
X-WR-CALDESC:Veranstaltungen im Städtisches Familienzentrum KiKO - Herten
BEGIN:VTIMEZONE
TZID:Europe/Berlin
BEGIN:DAYLIGHT
TZOFFSETFROM:+0100
TZOFFSETTO:+0200
TZNAME:CEST
DTSTART:20250330T010000
END:DAYLIGHT
BEGIN:STANDARD
TZOFFSETFROM:+0200
TZOFFSETTO:+0100
TZNAME:CET
DTSTART:20251026T010000
END:STANDARD
END:VTIMEZONE
BEGIN:VEVENT
DTSTART;TZID=Europe/Berlin:20251120T143000
DTEND;TZID=Europe/Berlin:20251120T153000
DTSTAMP:20260420T045118
CREATED:20251008T104835Z
LAST-MODIFIED:20251008T104835Z
UID:3905-1763649000-1763652600@www.kiko-herten.de
SUMMARY:Krabbelgruppe
DESCRIPTION:Jeden Donnerstag bieten unsere Kollegin Frau Foltyn und Frau Bertling eine Krabbelgruppe in unseren Räumlichkeiten an. \nBitte melden Sie sich bei Interesse per E-Mail oder Telefon. \n
URL:https://www.kiko-herten.de/termin/krabbelgruppe-13/2025-11-20/
LOCATION:KiKo
END:VEVENT
END:VCALENDAR