BEGIN:VCALENDAR
VERSION:2.0
PRODID:-//Städtisches Familienzentrum KiKO - Herten - ECPv5.0.0//NONSGML v1.0//EN
CALSCALE:GREGORIAN
METHOD:PUBLISH
X-WR-CALNAME:Städtisches Familienzentrum KiKO - Herten
X-ORIGINAL-URL:https://www.kiko-herten.de
X-WR-CALDESC:Veranstaltungen im Städtisches Familienzentrum KiKO - Herten
BEGIN:VTIMEZONE
TZID:Europe/Berlin
BEGIN:DAYLIGHT
TZOFFSETFROM:+0100
TZOFFSETTO:+0200
TZNAME:CEST
DTSTART:20250330T010000
END:DAYLIGHT
BEGIN:STANDARD
TZOFFSETFROM:+0200
TZOFFSETTO:+0100
TZNAME:CET
DTSTART:20251026T010000
END:STANDARD
END:VTIMEZONE
BEGIN:VEVENT
DTSTART;TZID=Europe/Berlin:20251007T140000
DTEND;TZID=Europe/Berlin:20251007T154500
DTSTAMP:20260420T044353
CREATED:20250929T112302Z
LAST-MODIFIED:20250929T112302Z
UID:3846-1759845600-1759851900@www.kiko-herten.de
SUMMARY:Koch-AG
DESCRIPTION:Frau Stock\, eine Mutter aus der Elternschaft\, bietet einmal im Monat eine Koch-AG an. Die Kinder sind mit einer Begleitperson herzlich zu einem leckeren Kochnachmittag eingeladen. Es werden kleinere Gerichte zubereitet\, die anschließend gemeinsam zusammen gegessen werden. Bitte tragen Sie sich bei Interesse in die entsprechende Liste an der Infowand ein. \n  \n  \n
URL:https://www.kiko-herten.de/termin/koch-ag-8/
LOCATION:KiKo
END:VEVENT
END:VCALENDAR