BEGIN:VCALENDAR
VERSION:2.0
PRODID:-//Städtisches Familienzentrum KiKO - Herten - ECPv5.0.0//NONSGML v1.0//EN
CALSCALE:GREGORIAN
METHOD:PUBLISH
X-WR-CALNAME:Städtisches Familienzentrum KiKO - Herten
X-ORIGINAL-URL:https://www.kiko-herten.de
X-WR-CALDESC:Veranstaltungen im Städtisches Familienzentrum KiKO - Herten
BEGIN:VTIMEZONE
TZID:Europe/Berlin
BEGIN:DAYLIGHT
TZOFFSETFROM:+0100
TZOFFSETTO:+0200
TZNAME:CEST
DTSTART:20240331T010000
END:DAYLIGHT
BEGIN:STANDARD
TZOFFSETFROM:+0200
TZOFFSETTO:+0100
TZNAME:CET
DTSTART:20241027T010000
END:STANDARD
END:VTIMEZONE
BEGIN:VEVENT
DTSTART;TZID=Europe/Berlin:20241218T140000
DTEND;TZID=Europe/Berlin:20241218T154500
DTSTAMP:20260424T002652
CREATED:20241017T090033Z
LAST-MODIFIED:20241017T090033Z
UID:3645-1734530400-1734536700@www.kiko-herten.de
SUMMARY:Koch-AG
DESCRIPTION:Die Kinder sind gemeinsam mit einer Begleitperson herzlich zu einem leckeren Kochnachmittag eingeladen. Gemeinsam bereiten wir leckere Gerichte zu\, die anschließend zusammen gegessen werden.\nBitte tragen Sie sich bei Interesse in die entsprechende Liste\nan der Infowand ein. \n
URL:https://www.kiko-herten.de/termin/koch-ag-6/
END:VEVENT
END:VCALENDAR