BEGIN:VCALENDAR
VERSION:2.0
PRODID:-//Städtisches Familienzentrum KiKO - Herten - ECPv5.0.0//NONSGML v1.0//EN
CALSCALE:GREGORIAN
METHOD:PUBLISH
X-WR-CALNAME:Städtisches Familienzentrum KiKO - Herten
X-ORIGINAL-URL:https://www.kiko-herten.de
X-WR-CALDESC:Veranstaltungen im Städtisches Familienzentrum KiKO - Herten
BEGIN:VTIMEZONE
TZID:Europe/Berlin
BEGIN:DAYLIGHT
TZOFFSETFROM:+0100
TZOFFSETTO:+0200
TZNAME:CEST
DTSTART:20240331T010000
END:DAYLIGHT
BEGIN:STANDARD
TZOFFSETFROM:+0200
TZOFFSETTO:+0100
TZNAME:CET
DTSTART:20241027T010000
END:STANDARD
END:VTIMEZONE
BEGIN:VEVENT
DTSTART;TZID=Europe/Berlin:20241121T090000
DTEND;TZID=Europe/Berlin:20241121T103000
DTSTAMP:20260424T113642
CREATED:20241017T074454Z
LAST-MODIFIED:20241017T074454Z
UID:3566-1732179600-1732185000@www.kiko-herten.de
SUMMARY:Kleinstkindergruppe
DESCRIPTION:Jeden Donnerstag bieten unsere ehemalige Kollegin Frau Pförtner und Frau Bertling eine Kleinstkindergruppe in unseren Räumlichkeiten an. Bitte melden Sie sich bei Interesse per E-Mail oder Telefon. \n
URL:https://www.kiko-herten.de/termin/kleinstkindergruppe-5/2024-11-21/
END:VEVENT
END:VCALENDAR