BEGIN:VCALENDAR
VERSION:2.0
PRODID:-//Städtisches Familienzentrum KiKO - Herten - ECPv5.0.0//NONSGML v1.0//EN
CALSCALE:GREGORIAN
METHOD:PUBLISH
X-WR-CALNAME:Städtisches Familienzentrum KiKO - Herten
X-ORIGINAL-URL:https://www.kiko-herten.de
X-WR-CALDESC:Veranstaltungen im Städtisches Familienzentrum KiKO - Herten
BEGIN:VTIMEZONE
TZID:Europe/Berlin
BEGIN:DAYLIGHT
TZOFFSETFROM:+0100
TZOFFSETTO:+0200
TZNAME:CEST
DTSTART:20250330T010000
END:DAYLIGHT
BEGIN:STANDARD
TZOFFSETFROM:+0200
TZOFFSETTO:+0100
TZNAME:CET
DTSTART:20251026T010000
END:STANDARD
END:VTIMEZONE
BEGIN:VEVENT
DTSTART;TZID=Europe/Berlin:20251128T113000
DTEND;TZID=Europe/Berlin:20251128T121500
DTSTAMP:20260420T083829
CREATED:20251008T105045Z
LAST-MODIFIED:20251008T105045Z
UID:3912-1764329400-1764332100@www.kiko-herten.de
SUMMARY:Kinderyoga
DESCRIPTION:Unter dem Motto Kinderyoga bietet Frau Kettenbach 5 Entspannungseinheiten für Kinder im Alter von 4-6 Jahren an. Nähere Informationen erhalten Sie an der Infopinnwand. Bitte tragen Sie Ihr Kind dort in die Teilnehmerliste ein. \n
URL:https://www.kiko-herten.de/termin/kinderyoga-4/2025-11-28/
LOCATION:KiKo
END:VEVENT
END:VCALENDAR