BEGIN:VCALENDAR
VERSION:2.0
PRODID:-//Städtisches Familienzentrum KiKO - Herten - ECPv5.0.0//NONSGML v1.0//EN
CALSCALE:GREGORIAN
METHOD:PUBLISH
X-WR-CALNAME:Städtisches Familienzentrum KiKO - Herten
X-ORIGINAL-URL:https://www.kiko-herten.de
X-WR-CALDESC:Veranstaltungen im Städtisches Familienzentrum KiKO - Herten
BEGIN:VTIMEZONE
TZID:Europe/Berlin
BEGIN:DAYLIGHT
TZOFFSETFROM:+0100
TZOFFSETTO:+0200
TZNAME:CEST
DTSTART:20250330T010000
END:DAYLIGHT
BEGIN:STANDARD
TZOFFSETFROM:+0200
TZOFFSETTO:+0100
TZNAME:CET
DTSTART:20251026T010000
END:STANDARD
END:VTIMEZONE
BEGIN:VEVENT
DTSTART;TZID=Europe/Berlin:20251031T143000
DTEND;TZID=Europe/Berlin:20251031T160000
DTSTAMP:20260420T045128
CREATED:20250929T114455Z
LAST-MODIFIED:20250929T114455Z
UID:3875-1761921000-1761926400@www.kiko-herten.de
SUMMARY:KiKo-Besichtigung
DESCRIPTION:An diesen Tagen stellen wir interessierten Eltern unsere \nEinrichtung vor. Wir zeigen Ihnen die Räumlichkeiten\, erzählen etwas zu unserem Konzept und beantworten gerne Ihre Fragen. \nMelden Sie sich bitte telefonisch oder per E-Mail an. \n
URL:https://www.kiko-herten.de/termin/kiko-besichtigung-11/
LOCATION:KiKo
END:VEVENT
END:VCALENDAR