BEGIN:VCALENDAR
VERSION:2.0
PRODID:-//Städtisches Familienzentrum KiKO - Herten - ECPv5.0.0//NONSGML v1.0//EN
CALSCALE:GREGORIAN
METHOD:PUBLISH
X-WR-CALNAME:Städtisches Familienzentrum KiKO - Herten
X-ORIGINAL-URL:https://www.kiko-herten.de
X-WR-CALDESC:Veranstaltungen im Städtisches Familienzentrum KiKO - Herten
BEGIN:VTIMEZONE
TZID:Europe/Berlin
BEGIN:DAYLIGHT
TZOFFSETFROM:+0100
TZOFFSETTO:+0200
TZNAME:CEST
DTSTART:20250330T010000
END:DAYLIGHT
BEGIN:STANDARD
TZOFFSETFROM:+0200
TZOFFSETTO:+0100
TZNAME:CET
DTSTART:20251026T010000
END:STANDARD
END:VTIMEZONE
BEGIN:VEVENT
DTSTART;TZID=Europe/Berlin:20251119T120000
DTEND;TZID=Europe/Berlin:20251119T140000
DTSTAMP:20260420T044502
CREATED:20251008T105956Z
LAST-MODIFIED:20251008T105956Z
UID:3931-1763553600-1763560800@www.kiko-herten.de
SUMMARY:KiKo-Beratung
DESCRIPTION:Einmal im Monat bietet Frau Friedberger eine Sprechstunde an. In dieser können Sie verschiedene Anliegen besprechen z.B. Themen rund um den Kindergarten (Anmeldung\, BuT\, Kitafino…) oder andere familiäre Angelegenheiten. \nVereinbaren Sie bitte bei Interesse einen Termin. Bei dringendem Gesprächsbedarf kann ein zusätzlicher Termin vereinbart werden. \n
URL:https://www.kiko-herten.de/termin/kiko-beratung-4/
LOCATION:KiKo
END:VEVENT
END:VCALENDAR