BEGIN:VCALENDAR
VERSION:2.0
PRODID:-//Städtisches Familienzentrum KiKO - Herten - ECPv5.0.0//NONSGML v1.0//EN
CALSCALE:GREGORIAN
METHOD:PUBLISH
X-WR-CALNAME:Städtisches Familienzentrum KiKO - Herten
X-ORIGINAL-URL:https://www.kiko-herten.de
X-WR-CALDESC:Veranstaltungen im Städtisches Familienzentrum KiKO - Herten
BEGIN:VTIMEZONE
TZID:Europe/Berlin
BEGIN:DAYLIGHT
TZOFFSETFROM:+0100
TZOFFSETTO:+0200
TZNAME:CEST
DTSTART:20250330T010000
END:DAYLIGHT
BEGIN:STANDARD
TZOFFSETFROM:+0200
TZOFFSETTO:+0100
TZNAME:CET
DTSTART:20251026T010000
END:STANDARD
END:VTIMEZONE
BEGIN:VEVENT
DTSTART;TZID=Europe/Berlin:20251208T100000
DTEND;TZID=Europe/Berlin:20251208T120000
DTSTAMP:20260420T051921
CREATED:20251008T111838Z
LAST-MODIFIED:20251008T111928Z
UID:3974-1765188000-1765195200@www.kiko-herten.de
SUMMARY:In der Weihnachtsbäckerei …
DESCRIPTION:In dieser Woche wird in der Einrichtung fleißig für die Weihnachtszeit gebacken. \n
URL:https://www.kiko-herten.de/termin/in-der-weihnachtsbaeckerei-4/2025-12-08/
END:VEVENT
END:VCALENDAR