BEGIN:VCALENDAR
VERSION:2.0
PRODID:-//Städtisches Familienzentrum KiKO - Herten - ECPv5.0.0//NONSGML v1.0//EN
CALSCALE:GREGORIAN
METHOD:PUBLISH
X-WR-CALNAME:Städtisches Familienzentrum KiKO - Herten
X-ORIGINAL-URL:https://www.kiko-herten.de
X-WR-CALDESC:Veranstaltungen im Städtisches Familienzentrum KiKO - Herten
BEGIN:VTIMEZONE
TZID:Europe/Berlin
BEGIN:DAYLIGHT
TZOFFSETFROM:+0100
TZOFFSETTO:+0200
TZNAME:CEST
DTSTART:20250330T010000
END:DAYLIGHT
BEGIN:STANDARD
TZOFFSETFROM:+0200
TZOFFSETTO:+0100
TZNAME:CET
DTSTART:20251026T010000
END:STANDARD
END:VTIMEZONE
BEGIN:VEVENT
DTSTART;TZID=Europe/Berlin:20250924T083000
DTEND;TZID=Europe/Berlin:20250924T093000
DTSTAMP:20260420T044808
CREATED:20250929T105647Z
LAST-MODIFIED:20250929T105647Z
UID:3814-1758702600-1758706200@www.kiko-herten.de
SUMMARY:Gesundheitsberatung
DESCRIPTION:In Kooperation mit dem Gesundheitsamt bieten wir eine Mütter- und \nVäterberatung rund um das Thema Gesundheit an. \n
URL:https://www.kiko-herten.de/termin/gesundheitsberatung-6/
LOCATION:KiKo
END:VEVENT
END:VCALENDAR