BEGIN:VCALENDAR
VERSION:2.0
PRODID:-//Städtisches Familienzentrum KiKO - Herten - ECPv5.0.0//NONSGML v1.0//EN
CALSCALE:GREGORIAN
METHOD:PUBLISH
X-WR-CALNAME:Städtisches Familienzentrum KiKO - Herten
X-ORIGINAL-URL:https://www.kiko-herten.de
X-WR-CALDESC:Veranstaltungen im Städtisches Familienzentrum KiKO - Herten
BEGIN:VTIMEZONE
TZID:Europe/Berlin
BEGIN:DAYLIGHT
TZOFFSETFROM:+0100
TZOFFSETTO:+0200
TZNAME:CEST
DTSTART:20250330T010000
END:DAYLIGHT
BEGIN:STANDARD
TZOFFSETFROM:+0200
TZOFFSETTO:+0100
TZNAME:CET
DTSTART:20251026T010000
END:STANDARD
END:VTIMEZONE
BEGIN:VEVENT
DTSTART;TZID=Europe/Berlin:20251113T090000
DTEND;TZID=Europe/Berlin:20251113T110000
DTSTAMP:20260420T044941
CREATED:20251008T105805Z
LAST-MODIFIED:20251008T105805Z
UID:3927-1763024400-1763031600@www.kiko-herten.de
SUMMARY:Familienberatung
DESCRIPTION:Frau Nahlinger von der Erziehungsberatungsstelle steht Ihnen für einen individuellen Beratungstermin rund um Erziehungsfragen zur Verfügung. Melden Sie sich im Büro\, wenn Sie einen Termin in Anspruch nehmen möchten. \nDarüber hinaus können Sie auch gerne einen individuellen Termin mit der Erziehungsberatungsstelle vor Ort oder im KiKo vereinbaren. \n
URL:https://www.kiko-herten.de/termin/familienberatung-4/
LOCATION:KiKo
END:VEVENT
END:VCALENDAR