BEGIN:VCALENDAR
VERSION:2.0
PRODID:-//Städtisches Familienzentrum KiKO - Herten - ECPv5.0.0//NONSGML v1.0//EN
CALSCALE:GREGORIAN
METHOD:PUBLISH
X-WR-CALNAME:Städtisches Familienzentrum KiKO - Herten
X-ORIGINAL-URL:https://www.kiko-herten.de
X-WR-CALDESC:Veranstaltungen im Städtisches Familienzentrum KiKO - Herten
BEGIN:VTIMEZONE
TZID:Europe/Berlin
BEGIN:DAYLIGHT
TZOFFSETFROM:+0100
TZOFFSETTO:+0200
TZNAME:CEST
DTSTART:20250330T010000
END:DAYLIGHT
BEGIN:STANDARD
TZOFFSETFROM:+0200
TZOFFSETTO:+0100
TZNAME:CET
DTSTART:20251026T010000
END:STANDARD
END:VTIMEZONE
BEGIN:VEVENT
DTSTART;TZID=Europe/Berlin:20250924T140000
DTEND;TZID=Europe/Berlin:20250924T160000
DTSTAMP:20260420T051922
CREATED:20250929T110212Z
LAST-MODIFIED:20250929T110212Z
UID:3820-1758722400-1758729600@www.kiko-herten.de
SUMMARY:Elternveranstaltung „Fit für die Schule“
DESCRIPTION:Frau Nahlinger von der Erziehungsberatungsstelle kommt an diesem Nachmittag in die Einrichtung und spricht mit Ihnen über das Thema „Fit für die Schule“. KiKo-Familien erhalten dazu eine persönliche Einladung. \nBei Interesse nehmen Sie gerne per E-Mail-Kontakt mit uns auf. \n
URL:https://www.kiko-herten.de/termin/elternveranstaltung-fit-fuer-die-schule/
LOCATION:KiKo
END:VEVENT
END:VCALENDAR