BEGIN:VCALENDAR
VERSION:2.0
PRODID:-//Städtisches Familienzentrum KiKO - Herten - ECPv5.0.0//NONSGML v1.0//EN
CALSCALE:GREGORIAN
METHOD:PUBLISH
X-WR-CALNAME:Städtisches Familienzentrum KiKO - Herten
X-ORIGINAL-URL:https://www.kiko-herten.de
X-WR-CALDESC:Veranstaltungen im Städtisches Familienzentrum KiKO - Herten
BEGIN:VTIMEZONE
TZID:Europe/Berlin
BEGIN:DAYLIGHT
TZOFFSETFROM:+0100
TZOFFSETTO:+0200
TZNAME:CEST
DTSTART:20240331T010000
END:DAYLIGHT
BEGIN:STANDARD
TZOFFSETFROM:+0200
TZOFFSETTO:+0100
TZNAME:CET
DTSTART:20241027T010000
END:STANDARD
END:VTIMEZONE
BEGIN:VEVENT
DTSTART;TZID=Europe/Berlin:20241206T140000
DTEND;TZID=Europe/Berlin:20241206T160000
DTSTAMP:20260423T213539
CREATED:20241017T084818Z
LAST-MODIFIED:20241017T084818Z
UID:3635-1733493600-1733500800@www.kiko-herten.de
SUMMARY:Elterncafé
DESCRIPTION:Wir möchten Sie gerne zu einem Elterncafé einladen. In einer gemütlichen Runde können Sie mit anderen Eltern und uns ins Gespräch kommen. Bitte tragen Sie sich bei Interesse in die Teilnehmerliste ein. \n
URL:https://www.kiko-herten.de/termin/elterncafe-4/
END:VEVENT
END:VCALENDAR