BEGIN:VCALENDAR
VERSION:2.0
PRODID:-//Städtisches Familienzentrum KiKO - Herten - ECPv5.0.0//NONSGML v1.0//EN
CALSCALE:GREGORIAN
METHOD:PUBLISH
X-WR-CALNAME:Städtisches Familienzentrum KiKO - Herten
X-ORIGINAL-URL:https://www.kiko-herten.de
X-WR-CALDESC:Veranstaltungen im Städtisches Familienzentrum KiKO - Herten
BEGIN:VTIMEZONE
TZID:Europe/Berlin
BEGIN:DAYLIGHT
TZOFFSETFROM:+0100
TZOFFSETTO:+0200
TZNAME:CEST
DTSTART:20250330T010000
END:DAYLIGHT
BEGIN:STANDARD
TZOFFSETFROM:+0200
TZOFFSETTO:+0100
TZNAME:CET
DTSTART:20251026T010000
END:STANDARD
END:VTIMEZONE
BEGIN:VEVENT
DTSTART;TZID=Europe/Berlin:20250927T100000
DTEND;TZID=Europe/Berlin:20250927T120000
DTSTAMP:20260420T122350
CREATED:20250929T110406Z
LAST-MODIFIED:20250929T110406Z
UID:3824-1758967200-1758974400@www.kiko-herten.de
SUMMARY:Eltern-Kind-Treff / Bewegung im Alltag
DESCRIPTION:Am heutigen Samstag sind Sie und Ihre Kinder (im Alter von 4-6 Jahren) herzlich zum Eltern-Kind-Treff eingeladen. Wir möchten uns gemeinsam in der Natur bewegen. Das freie Rennen\, angeleitete Klettern und Balancieren in der Natur unterstützt die motorische Entwicklung und stärkt das Körpergefühl. Machen Sie mit. Nähere Informationen erhalten Sie zeitnah an der Infopinnwand. \n
URL:https://www.kiko-herten.de/termin/eltern-kind-treff-bewegung-im-alltag/
END:VEVENT
END:VCALENDAR