BEGIN:VCALENDAR
VERSION:2.0
PRODID:-//Städtisches Familienzentrum KiKO - Herten - ECPv5.0.0//NONSGML v1.0//EN
CALSCALE:GREGORIAN
METHOD:PUBLISH
X-WR-CALNAME:Städtisches Familienzentrum KiKO - Herten
X-ORIGINAL-URL:https://www.kiko-herten.de
X-WR-CALDESC:Veranstaltungen im Städtisches Familienzentrum KiKO - Herten
BEGIN:VTIMEZONE
TZID:Europe/Berlin
BEGIN:DAYLIGHT
TZOFFSETFROM:+0100
TZOFFSETTO:+0200
TZNAME:CEST
DTSTART:20250330T010000
END:DAYLIGHT
BEGIN:STANDARD
TZOFFSETFROM:+0200
TZOFFSETTO:+0100
TZNAME:CET
DTSTART:20251026T010000
END:STANDARD
END:VTIMEZONE
BEGIN:VEVENT
DTSTART;VALUE=DATE:20251121
DTEND;VALUE=DATE:20251122
DTSTAMP:20260420T044818
CREATED:20251008T110042Z
LAST-MODIFIED:20251008T110042Z
UID:3933-1763683200-1763769599@www.kiko-herten.de
SUMMARY:Bundesweiter Vorlesetag
DESCRIPTION:Immer am dritten Freitag im November soll durch den bundesweiten Vorlesetag auf die Bedeutung des Vorlesens hingewiesen werden. Im KiKo werden zu diesem Anlass Familienangehörige eingeladen\, den Kindern in gemütlicher Atmosphäre etwas vorzulesen. \n
URL:https://www.kiko-herten.de/termin/bundesweiter-vorlesetag-4/
LOCATION:KiKo
END:VEVENT
END:VCALENDAR