BEGIN:VCALENDAR
VERSION:2.0
PRODID:-//Städtisches Familienzentrum KiKO - Herten - ECPv5.0.0//NONSGML v1.0//EN
CALSCALE:GREGORIAN
METHOD:PUBLISH
X-WR-CALNAME:Städtisches Familienzentrum KiKO - Herten
X-ORIGINAL-URL:https://www.kiko-herten.de
X-WR-CALDESC:Veranstaltungen im Städtisches Familienzentrum KiKO - Herten
BEGIN:VTIMEZONE
TZID:Europe/Berlin
BEGIN:DAYLIGHT
TZOFFSETFROM:+0100
TZOFFSETTO:+0200
TZNAME:CEST
DTSTART:20250330T010000
END:DAYLIGHT
BEGIN:STANDARD
TZOFFSETFROM:+0200
TZOFFSETTO:+0100
TZNAME:CET
DTSTART:20251026T010000
END:STANDARD
END:VTIMEZONE
BEGIN:VEVENT
DTSTART;VALUE=DATE:20251204
DTEND;VALUE=DATE:20251205
DTSTAMP:20260420T044334
CREATED:20251008T110912Z
LAST-MODIFIED:20251008T110912Z
UID:3951-1764806400-1764892799@www.kiko-herten.de
SUMMARY:Bücherei
DESCRIPTION:Zweimal im Monat können Sie sich donnerstags Spiele und Bücher ausleihen. Bitte sprechen Sie Frau Kislali in der Gruppe „Orange“ an\, wenn Sie Bücher ausleihen oder zurückbringen möchten. \n
URL:https://www.kiko-herten.de/termin/buecherei-15/
LOCATION:KiKo
END:VEVENT
END:VCALENDAR