BEGIN:VCALENDAR
VERSION:2.0
PRODID:-//Städtisches Familienzentrum KiKO - Herten - ECPv5.0.0//NONSGML v1.0//EN
CALSCALE:GREGORIAN
METHOD:PUBLISH
X-WR-CALNAME:Städtisches Familienzentrum KiKO - Herten
X-ORIGINAL-URL:https://www.kiko-herten.de
X-WR-CALDESC:Veranstaltungen im Städtisches Familienzentrum KiKO - Herten
BEGIN:VTIMEZONE
TZID:Europe/Berlin
BEGIN:DAYLIGHT
TZOFFSETFROM:+0100
TZOFFSETTO:+0200
TZNAME:CEST
DTSTART:20240331T010000
END:DAYLIGHT
BEGIN:STANDARD
TZOFFSETFROM:+0200
TZOFFSETTO:+0100
TZNAME:CET
DTSTART:20241027T010000
END:STANDARD
END:VTIMEZONE
BEGIN:VEVENT
DTSTART;VALUE=DATE:20241205
DTEND;VALUE=DATE:20241206
DTSTAMP:20260421T211501
CREATED:20241017T083720Z
LAST-MODIFIED:20241017T083720Z
UID:3617-1733356800-1733443199@www.kiko-herten.de
SUMMARY:Bücherei
DESCRIPTION:Jeden 2. Donnerstag im Monat (außer in den Ferien) können Sie sich Spiele und Bücher ausleihen. Bitte sprechen Sie Frau Manekeller oder Herrn Paschke in der Gruppe „Rot“ an\, wenn Sie etwas ausleihen oder zurückbringen möchten. \n
URL:https://www.kiko-herten.de/termin/buecherei-11/
END:VEVENT
END:VCALENDAR