BEGIN:VCALENDAR
VERSION:2.0
PRODID:-//Städtisches Familienzentrum KiKO - Herten - ECPv5.0.0//NONSGML v1.0//EN
CALSCALE:GREGORIAN
METHOD:PUBLISH
X-WR-CALNAME:Städtisches Familienzentrum KiKO - Herten
X-ORIGINAL-URL:https://www.kiko-herten.de
X-WR-CALDESC:Veranstaltungen im Städtisches Familienzentrum KiKO - Herten
BEGIN:VTIMEZONE
TZID:Europe/Berlin
BEGIN:DAYLIGHT
TZOFFSETFROM:+0100
TZOFFSETTO:+0200
TZNAME:CEST
DTSTART:20250330T010000
END:DAYLIGHT
BEGIN:STANDARD
TZOFFSETFROM:+0200
TZOFFSETTO:+0100
TZNAME:CET
DTSTART:20251026T010000
END:STANDARD
END:VTIMEZONE
BEGIN:VEVENT
DTSTART;TZID=Europe/Berlin:20251112T073000
DTEND;TZID=Europe/Berlin:20251112T093000
DTSTAMP:20260424T084743
CREATED:20251008T105715Z
LAST-MODIFIED:20251008T105715Z
UID:3925-1762932600-1762939800@www.kiko-herten.de
SUMMARY:Berufsberatung
DESCRIPTION:Frau Seifert (Jobcenter) und Frau Scherenberg (Arbeitsagentur) beraten Sie gerne bei Ihren Anliegen zu den Themen beruflicher Wiedereinstieg\, Jobwechsel\, Bewerbungen\, Umschulungen usw. Kommen Sie gerne vorbei. Beim einem Stehcafé in gemeinschaftlicher Runde oder auch in einem separaten Raum werden Sie beraten. \n
URL:https://www.kiko-herten.de/termin/berufsberatung/
LOCATION:KiKo
END:VEVENT
END:VCALENDAR