BEGIN:VCALENDAR
VERSION:2.0
PRODID:-//Städtisches Familienzentrum KiKO - Herten - ECPv5.0.0//NONSGML v1.0//EN
CALSCALE:GREGORIAN
METHOD:PUBLISH
X-WR-CALNAME:Städtisches Familienzentrum KiKO - Herten
X-ORIGINAL-URL:https://www.kiko-herten.de
X-WR-CALDESC:Veranstaltungen im Städtisches Familienzentrum KiKO - Herten
BEGIN:VTIMEZONE
TZID:Europe/Berlin
BEGIN:DAYLIGHT
TZOFFSETFROM:+0100
TZOFFSETTO:+0200
TZNAME:CEST
DTSTART:20250330T010000
END:DAYLIGHT
BEGIN:STANDARD
TZOFFSETFROM:+0200
TZOFFSETTO:+0100
TZNAME:CET
DTSTART:20251026T010000
END:STANDARD
END:VTIMEZONE
BEGIN:VEVENT
DTSTART;TZID=Europe/Berlin:20251112T093000
DTEND;TZID=Europe/Berlin:20251112T103000
DTSTAMP:20260420T052520
CREATED:20251008T105456Z
LAST-MODIFIED:20251008T105456Z
UID:3920-1762939800-1762943400@www.kiko-herten.de
SUMMARY:Babymassage „Wellness für die Kleinen“
DESCRIPTION:Dieser Kurs ist für Eltern mit Kindern im Alter von sechs Wochen bis ca. einem Jahr. Bei leiser Entspannungsmusik erklärt Ihnen unsere Kollegin Frau Lehnert verschiedene Massagetechniken\, die Sie bei Ihren Kindern anwenden können. Bei Interesse nehmen Sie bitte telefonisch oder per \nE-Mail-Kontakt mit uns auf. \n  \n
URL:https://www.kiko-herten.de/termin/babymassage-wellness-fuer-die-kleinen-11/
LOCATION:KiKo
END:VEVENT
END:VCALENDAR