BEGIN:VCALENDAR
VERSION:2.0
PRODID:-//Städtisches Familienzentrum KiKO - Herten - ECPv5.0.0//NONSGML v1.0//EN
CALSCALE:GREGORIAN
METHOD:PUBLISH
X-WR-CALNAME:Städtisches Familienzentrum KiKO - Herten
X-ORIGINAL-URL:https://www.kiko-herten.de
X-WR-CALDESC:Veranstaltungen im Städtisches Familienzentrum KiKO - Herten
BEGIN:VTIMEZONE
TZID:Europe/Berlin
BEGIN:DAYLIGHT
TZOFFSETFROM:+0100
TZOFFSETTO:+0200
TZNAME:CEST
DTSTART:20250330T010000
END:DAYLIGHT
BEGIN:STANDARD
TZOFFSETFROM:+0200
TZOFFSETTO:+0100
TZNAME:CET
DTSTART:20251026T010000
END:STANDARD
END:VTIMEZONE
BEGIN:VEVENT
DTSTART;TZID=Europe/Berlin:20250922T080000
DTEND;TZID=Europe/Berlin:20250926T120000
DTSTAMP:20260420T155652
CREATED:20250929T105109Z
LAST-MODIFIED:20250929T105109Z
UID:3806-1758528000-1758888000@www.kiko-herten.de
SUMMARY:Anmeldewoche Waldschule
DESCRIPTION:An einem Tag in dieser Woche sind unsere Vorschulkinder und Eltern zur Schulanmeldung an der Waldschule eingeladen. \nDer genaue Tag wird an der Vorschuleltern-Infoveranstaltung bekannt gegeben. \n
URL:https://www.kiko-herten.de/termin/anmeldewoche-waldschule/
LOCATION:Waldschule
END:VEVENT
END:VCALENDAR